BEGIN:VCALENDAR
VERSION:2.0
PRODID:-//https://www.paroisse-maisons-laffitte.com//NONSGML kigkonsult.se iCalcreator 2.41.71//
CALSCALE:GREGORIAN
METHOD:PUBLISH
UID:63666339-6265-4933-b239-633865313731
X-WR-CALNAME:JCal Pro Calendar
X-WR-CALDESC:Your online events calendar
X-WR-TIMEZONE:Europe/Paris
BEGIN:VTIMEZONE
TZID:Europe/Paris
TZUNTIL:20271031T010000Z
BEGIN:STANDARD
TZNAME:CET
DTSTART:20251026T030000
TZOFFSETFROM:+0200
TZOFFSETTO:+0100
RDATE:20261025T030000
END:STANDARD
BEGIN:DAYLIGHT
TZNAME:CEST
DTSTART:20260329T020000
TZOFFSETFROM:+0100
TZOFFSETTO:+0200
RDATE:20270328T020000
END:DAYLIGHT
END:VTIMEZONE
BEGIN:VEVENT
UID:20220303T194500CET-1701aP9RP1@https://www.gp78600.com/
DTSTAMP:20260422T103351Z
CATEGORIES:Formations (actu)
DTSTART;TZID=Europe/Paris:20220324T203000
DTEND;TZID=Europe/Paris:20220324T223000
SUMMARY:Formation 'écouter Dieu' au CSPP - le livre de Jonas
URL:https://www.paroisse-maisons-laffitte.com/index.php/agenda/168-actualit
 es/170-formations-actu/4969-formation-ecouter-dieu-au-cspp-le-livre-de-jon
 as
END:VEVENT
END:VCALENDAR
